

BEGIN:VCALENDAR
VERSION:2.0
PRODID:-//AASHTO Meetings &amp; Member Services - ECPv5.9.0//NONSGML v1.0//EN
CALSCALE:GREGORIAN
METHOD:PUBLISH
X-WR-CALNAME:AASHTO Meetings &amp; Member Services
X-ORIGINAL-URL:https://meetings.transportation.org
X-WR-CALDESC:Events for AASHTO Meetings &amp; Member Services
BEGIN:VTIMEZONE
TZID:America/Indiana/Indianapolis
BEGIN:DAYLIGHT
TZOFFSETFROM:-0500
TZOFFSETTO:-0400
TZNAME:EDT
DTSTART:20210314T070000
END:DAYLIGHT
BEGIN:STANDARD
TZOFFSETFROM:-0400
TZOFFSETTO:-0500
TZNAME:EST
DTSTART:20211107T060000
END:STANDARD
END:VTIMEZONE
BEGIN:VEVENT
DTSTART;TZID=America/Indiana/Indianapolis:20210921T110000
DTEND;TZID=America/Indiana/Indianapolis:20210923T170000
DTSTAMP:20210911T080830
CREATED:20210822T193010Z
LAST-MODIFIED:20210822T193010Z
UID:2227-1632222000-1632416400@meetings.transportation.org
SUMMARY:2021 AASHTO TransComm Virtual Meeting
DESCRIPTION:
URL:https://meetings.transportation.org/event/2021-aashto-transcomm-virtual-meeting/
ORGANIZER;CN="Kristen%20Thomas":MAILTO:kdthomas@kcdevent-partners.com
END:VEVENT
END:VCALENDAR