

BEGIN:VCALENDAR
VERSION:2.0
PRODID:-//AASHTO Meetings &amp; Member Services - ECPv5.9.0//NONSGML v1.0//EN
CALSCALE:GREGORIAN
METHOD:PUBLISH
X-WR-CALNAME:AASHTO Meetings &amp; Member Services
X-ORIGINAL-URL:https://meetings.transportation.org
X-WR-CALDESC:Events for AASHTO Meetings &amp; Member Services
BEGIN:VTIMEZONE
TZID:America/Denver
BEGIN:DAYLIGHT
TZOFFSETFROM:-0700
TZOFFSETTO:-0600
TZNAME:MDT
DTSTART:20210314T090000
END:DAYLIGHT
BEGIN:STANDARD
TZOFFSETFROM:-0600
TZOFFSETTO:-0700
TZNAME:MST
DTSTART:20211107T080000
END:STANDARD
END:VTIMEZONE
BEGIN:VEVENT
DTSTART;TZID=America/Denver:20210914T080000
DTEND;TZID=America/Denver:20210916T170000
DTSTAMP:20210911T080745
CREATED:20210507T151507Z
LAST-MODIFIED:20210910T000007Z
UID:2142-1631606400-1631811600@meetings.transportation.org
SUMMARY:2021 BrMUG Virtual Meeting
DESCRIPTION:2021 AASHTO Bridge Management User Group (BrMUG) Meeting.
URL:https://meetings.transportation.org/event/2021-brmug-virtual-meeting/
LOCATION:Virtual
ORGANIZER;CN="Judy%20Tarwater":MAILTO:jtarwater@aashto.org
END:VEVENT
END:VCALENDAR