

BEGIN:VCALENDAR
VERSION:2.0
PRODID:-//AASHTO Meetings &amp; Member Services - ECPv5.9.0//NONSGML v1.0//EN
CALSCALE:GREGORIAN
METHOD:PUBLISH
X-WR-CALNAME:AASHTO Meetings &amp; Member Services
X-ORIGINAL-URL:https://meetings.transportation.org
X-WR-CALDESC:Events for AASHTO Meetings &amp; Member Services
BEGIN:VTIMEZONE
TZID:UTC
BEGIN:STANDARD
TZOFFSETFROM:+0000
TZOFFSETTO:+0000
TZNAME:UTC
DTSTART:20190101T000000
END:STANDARD
END:VTIMEZONE
BEGIN:VEVENT
DTSTART;TZID=UTC:20190602T080000
DTEND;TZID=UTC:20190614T170000
DTSTAMP:20211009T022123
CREATED:20190214T214854Z
LAST-MODIFIED:20190214T214854Z
UID:1094-1559462400-1560531600@meetings.transportation.org
SUMMARY:AASHTO 2019 National Transportation Leadership Institute (NTLI)
DESCRIPTION:AASHTO 2019 National Transportation Leadership Institute (NTLI) \nSunday\, June 2 to Friday\, June 14\, 2019 \nIndiana Historical Society \n450 West Ohio Street \nIndianapolis\, Indiana 46202-5152 \n  \nContacts: \nDonna Tamburelli (dtamburelli@aashto.org) – AASHTO \nBarbara Fisher (bfisher@iupui.edu) – Indiana University Executive Education Program \n  \nAASHTO NTLI Application Link:  https://www.surveymonkey.com/r/2019NTLI \n  \nThe AASHTO NTLI application deadline is April 4\, 2019 \n 
URL:https://meetings.transportation.org/event/aashto-2019-national-transportation-leadership-institute-ntli/
LOCATION:Indiana Historical Society Conference Center\, 450 West Ohio St\, Indianapolis\, IN\, 46202-5152\, United States
ORGANIZER;CN="Barbara%20Fisher":MAILTO:bfisher@iupui.edu
GEO:39.7705069;-86.166176
X-APPLE-STRUCTURED-LOCATION;VALUE=URI;X-ADDRESS=Indiana Historical Society Conference Center 450 West Ohio St Indianapolis IN 46202-5152 United States;X-APPLE-RADIUS=500;X-TITLE=450 West Ohio St:geo:-86.166176,39.7705069
END:VEVENT
END:VCALENDAR