

BEGIN:VCALENDAR
VERSION:2.0
PRODID:-//AASHTO Meetings &amp; Member Services - ECPv5.1.6//NONSGML v1.0//EN
CALSCALE:GREGORIAN
METHOD:PUBLISH
X-WR-CALNAME:AASHTO Meetings &amp; Member Services
X-ORIGINAL-URL:https://meetings.transportation.org
X-WR-CALDESC:Events for AASHTO Meetings &amp; Member Services
BEGIN:VTIMEZONE
TZID:America/New_York
BEGIN:DAYLIGHT
TZOFFSETFROM:-0500
TZOFFSETTO:-0400
TZNAME:EDT
DTSTART:20220313T070000
END:DAYLIGHT
BEGIN:STANDARD
TZOFFSETFROM:-0400
TZOFFSETTO:-0500
TZNAME:EST
DTSTART:20221106T060000
END:STANDARD
END:VTIMEZONE
BEGIN:VEVENT
DTSTART;TZID=America/New_York:20220712T080000
DTEND;TZID=America/New_York:20220714T170000
DTSTAMP:20210424T074655
CREATED:20201207T172005Z
LAST-MODIFIED:20210215T191025Z
UID:1984-1657612800-1657818000@meetings.transportation.org
SUMMARY:NASTO Annual Meeting
DESCRIPTION:
URL:https://meetings.transportation.org/event/nasto-annual-meeting/
LOCATION:Hartford Marriott Downtown\, 200 Columbus Blvd.\, Hartford\, CT\, 06103
END:VEVENT
END:VCALENDAR