

BEGIN:VCALENDAR
VERSION:2.0
PRODID:-//AASHTO Meetings &amp; Member Services - ECPv5.9.0//NONSGML v1.0//EN
CALSCALE:GREGORIAN
METHOD:PUBLISH
X-WR-CALNAME:AASHTO Meetings &amp; Member Services
X-ORIGINAL-URL:https://meetings.transportation.org
X-WR-CALDESC:Events for AASHTO Meetings &amp; Member Services
BEGIN:VTIMEZONE
TZID:UTC
BEGIN:STANDARD
TZOFFSETFROM:+0000
TZOFFSETTO:+0000
TZNAME:UTC
DTSTART:20200101T000000
END:STANDARD
END:VTIMEZONE
BEGIN:VEVENT
DTSTART;TZID=UTC:20200623T080000
DTEND;TZID=UTC:20200623T170000
DTSTAMP:20210912T224002
CREATED:20200604T175119Z
LAST-MODIFIED:20200604T175119Z
UID:1731-1592899200-1592931600@meetings.transportation.org
SUMMARY:Committee on Human Resources
DESCRIPTION:
URL:https://meetings.transportation.org/event/committee-on-human-resources/
LOCATION:Virtual
END:VEVENT
END:VCALENDAR