

BEGIN:VCALENDAR
VERSION:2.0
PRODID:-//AASHTO Meetings &amp; Member Services - ECPv5.9.0//NONSGML v1.0//EN
CALSCALE:GREGORIAN
METHOD:PUBLISH
X-WR-CALNAME:AASHTO Meetings &amp; Member Services
X-ORIGINAL-URL:https://meetings.transportation.org
X-WR-CALDESC:Events for AASHTO Meetings &amp; Member Services
BEGIN:VTIMEZONE
TZID:UTC
BEGIN:STANDARD
TZOFFSETFROM:+0000
TZOFFSETTO:+0000
TZNAME:UTC
DTSTART:20200101T000000
END:STANDARD
END:VTIMEZONE
BEGIN:VEVENT
DTSTART;TZID=UTC:20201001T130000
DTEND;TZID=UTC:20201001T163000
DTSTAMP:20210912T224038
CREATED:20200806T222445Z
LAST-MODIFIED:20200818T210823Z
UID:1827-1601557200-1601569800@meetings.transportation.org
SUMMARY:2020 AASHTO Committee on Environment & Sustainability Virtual Meeting - Opening/General Session
DESCRIPTION:
URL:https://meetings.transportation.org/event/ces-opening-general-session/
LOCATION:Virtual
END:VEVENT
END:VCALENDAR