

BEGIN:VCALENDAR
VERSION:2.0
PRODID:-//AASHTO Meetings &amp; Member Services - ECPv5.9.0//NONSGML v1.0//EN
CALSCALE:GREGORIAN
METHOD:PUBLISH
X-WR-CALNAME:AASHTO Meetings &amp; Member Services
X-ORIGINAL-URL:https://meetings.transportation.org
X-WR-CALDESC:Events for AASHTO Meetings &amp; Member Services
BEGIN:VTIMEZONE
TZID:UTC
BEGIN:STANDARD
TZOFFSETFROM:+0000
TZOFFSETTO:+0000
TZNAME:UTC
DTSTART:20200101T000000
END:STANDARD
END:VTIMEZONE
BEGIN:VEVENT
DTSTART;TZID=UTC:20201008T130000
DTEND;TZID=UTC:20201008T163000
DTSTAMP:20210912T224041
CREATED:20200806T222527Z
LAST-MODIFIED:20200818T210906Z
UID:1829-1602162000-1602174600@meetings.transportation.org
SUMMARY:2020 AASHTO Committee on Environment & Sustainability Virtual Meeting - Natural Resources Subcommittee
DESCRIPTION:
URL:https://meetings.transportation.org/event/ces-natural-resources-subcommittee/
LOCATION:Virtual
END:VEVENT
END:VCALENDAR