

BEGIN:VCALENDAR
VERSION:2.0
PRODID:-//AASHTO Meetings &amp; Member Services - ECPv5.1.6//NONSGML v1.0//EN
CALSCALE:GREGORIAN
METHOD:PUBLISH
X-WR-CALNAME:AASHTO Meetings &amp; Member Services
X-ORIGINAL-URL:https://meetings.transportation.org
X-WR-CALDESC:Events for AASHTO Meetings &amp; Member Services
BEGIN:VTIMEZONE
TZID:America/New_York
BEGIN:DAYLIGHT
TZOFFSETFROM:-0500
TZOFFSETTO:-0400
TZNAME:EDT
DTSTART:20210314T070000
END:DAYLIGHT
BEGIN:STANDARD
TZOFFSETFROM:-0400
TZOFFSETTO:-0500
TZNAME:EST
DTSTART:20211107T060000
END:STANDARD
END:VTIMEZONE
BEGIN:VEVENT
DTSTART;TZID=America/New_York:20210510T080000
DTEND;TZID=America/New_York:20210514T170000
DTSTAMP:20210423T000036
CREATED:20201207T144542Z
LAST-MODIFIED:20210108T191842Z
UID:1951-1620633600-1621011600@meetings.transportation.org
SUMMARY:AASHTO Spring Meeting
DESCRIPTION:
URL:https://meetings.transportation.org/event/aashto-spring-meeting/
LOCATION:Virtual
ORGANIZER;CN="Monica%20Russell":MAILTO:khendrickson@aashto.org
END:VEVENT
END:VCALENDAR