

BEGIN:VCALENDAR
VERSION:2.0
PRODID:-//AASHTO Meetings &amp; Member Services - ECPv5.1.6//NONSGML v1.0//EN
CALSCALE:GREGORIAN
METHOD:PUBLISH
X-WR-CALNAME:AASHTO Meetings &amp; Member Services
X-ORIGINAL-URL:https://meetings.transportation.org
X-WR-CALDESC:Events for AASHTO Meetings &amp; Member Services
BEGIN:VTIMEZONE
TZID:America/Indiana/Indianapolis
BEGIN:DAYLIGHT
TZOFFSETFROM:-0500
TZOFFSETTO:-0400
TZNAME:EDT
DTSTART:20210314T070000
END:DAYLIGHT
BEGIN:STANDARD
TZOFFSETFROM:-0400
TZOFFSETTO:-0500
TZNAME:EST
DTSTART:20211107T060000
END:STANDARD
END:VTIMEZONE
BEGIN:VEVENT
DTSTART;TZID=America/Indiana/Indianapolis:20210510T110000
DTEND;TZID=America/Indiana/Indianapolis:20210514T173000
DTSTAMP:20210423T000111
CREATED:20210413T174505Z
LAST-MODIFIED:20210413T174505Z
UID:2132-1620644400-1621013400@meetings.transportation.org
SUMMARY:2021 AASHTO Virtual Spring Meeting
DESCRIPTION:
URL:https://meetings.transportation.org/event/2021-aashto-virtual-spring-meeting/
LOCATION:Hubilo Virtual Platform
ORGANIZER;CN="Kamasha%20Hendrickson":MAILTO:khendrickson@aashto.org
END:VEVENT
END:VCALENDAR