

BEGIN:VCALENDAR
VERSION:2.0
PRODID:-//AASHTO Meetings &amp; Member Services - ECPv5.9.0//NONSGML v1.0//EN
CALSCALE:GREGORIAN
METHOD:PUBLISH
X-WR-CALNAME:AASHTO Meetings &amp; Member Services
X-ORIGINAL-URL:https://meetings.transportation.org
X-WR-CALDESC:Events for AASHTO Meetings &amp; Member Services
BEGIN:VTIMEZONE
TZID:UTC
BEGIN:STANDARD
TZOFFSETFROM:+0000
TZOFFSETTO:+0000
TZNAME:UTC
DTSTART:20200101T000000
END:STANDARD
END:VTIMEZONE
BEGIN:VEVENT
DTSTART;TZID=UTC:20200720T080000
DTEND;TZID=UTC:20200723T170000
DTSTAMP:20210912T224008
CREATED:20200714T175544Z
LAST-MODIFIED:20200714T175544Z
UID:1799-1595232000-1595523600@meetings.transportation.org
SUMMARY:2020 Committee on Maintenance Meeting
DESCRIPTION:
URL:https://meetings.transportation.org/event/2020-committee-on-maintenance-meeting-2/
LOCATION:Virtual
ORGANIZER;CN="Kristen%20Thomas":MAILTO:kdthomas@kcdevent-partners.com
END:VEVENT
END:VCALENDAR