

BEGIN:VCALENDAR
VERSION:2.0
PRODID:-//AASHTO Meetings &amp; Member Services - ECPv5.9.0//NONSGML v1.0//EN
CALSCALE:GREGORIAN
METHOD:PUBLISH
X-WR-CALNAME:AASHTO Meetings &amp; Member Services
X-ORIGINAL-URL:https://meetings.transportation.org
X-WR-CALDESC:Events for AASHTO Meetings &amp; Member Services
BEGIN:VTIMEZONE
TZID:UTC
BEGIN:STANDARD
TZOFFSETFROM:+0000
TZOFFSETTO:+0000
TZNAME:UTC
DTSTART:20200101T000000
END:STANDARD
END:VTIMEZONE
BEGIN:VEVENT
DTSTART;TZID=UTC:20200921T130000
DTEND;TZID=UTC:20200924T170000
DTSTAMP:20210912T224033
CREATED:20200708T180848Z
LAST-MODIFIED:20200721T235738Z
UID:1767-1600693200-1600966800@meetings.transportation.org
SUMMARY:2020 AASHTO National Transportation Management ‘Virtual’ Conference
DESCRIPTION:
URL:https://meetings.transportation.org/event/2020-aashto-national-transportation-management-virtual-conference/
LOCATION:Virtual
ORGANIZER;CN="Karen%20Crawford":MAILTO:kcrawford@cmc-associates.com
END:VEVENT
END:VCALENDAR