

BEGIN:VCALENDAR
VERSION:2.0
PRODID:-//AASHTO Meetings &amp; Member Services - ECPv5.1.6//NONSGML v1.0//EN
CALSCALE:GREGORIAN
METHOD:PUBLISH
X-WR-CALNAME:AASHTO Meetings &amp; Member Services
X-ORIGINAL-URL:https://meetings.transportation.org
X-WR-CALDESC:Events for AASHTO Meetings &amp; Member Services
BEGIN:VTIMEZONE
TZID:UTC
BEGIN:STANDARD
TZOFFSETFROM:+0000
TZOFFSETTO:+0000
TZNAME:UTC
DTSTART:20200101T000000
END:STANDARD
END:VTIMEZONE
BEGIN:VEVENT
DTSTART;TZID=UTC:20200607T080000
DTEND;TZID=UTC:20200619T170000
DTSTAMP:20210424T150553
CREATED:20190710T160155Z
LAST-MODIFIED:20200213T011901Z
UID:1254-1591516800-1592586000@meetings.transportation.org
SUMMARY:2020 AASHTO National Transportation Leadership Institute (NTLI)
DESCRIPTION:AASHTO NTLI Application Link:  https://www.surveymonkey.com/r/2020-NTLI-APPLICATION\nAASHTO NTLI Application Deadline:  May 10\, 2020
URL:https://meetings.transportation.org/event/2020-aashto-national-transportation-leadership-institute-ntli/
LOCATION:Indiana Historical Society Conference Center\, 450 West Ohio St\, Indianapolis\, 46202-5152\, USA
ORGANIZER;CN="Donna%20Tamburelli":MAILTO:dtamburelli@aashto.org
END:VEVENT
END:VCALENDAR