

BEGIN:VCALENDAR
VERSION:2.0
PRODID:-//AASHTO Meetings &amp; Member Services - ECPv5.9.0//NONSGML v1.0//EN
CALSCALE:GREGORIAN
METHOD:PUBLISH
X-WR-CALNAME:AASHTO Meetings &amp; Member Services
X-ORIGINAL-URL:https://meetings.transportation.org
X-WR-CALDESC:Events for AASHTO Meetings &amp; Member Services
BEGIN:VTIMEZONE
TZID:UTC
BEGIN:STANDARD
TZOFFSETFROM:+0000
TZOFFSETTO:+0000
TZNAME:UTC
DTSTART:20180101T000000
END:STANDARD
END:VTIMEZONE
BEGIN:VEVENT
DTSTART;TZID=UTC:20180422T080000
DTEND;TZID=UTC:20180426T170000
DTSTAMP:20210914T114437
CREATED:20170622T153416Z
LAST-MODIFIED:20180106T000453Z
UID:366-1524384000-1524762000@meetings.transportation.org
SUMMARY:2018 ROWUOAC Meeting
DESCRIPTION:
URL:https://meetings.transportation.org/event/2018-rowuoac-meeting/
LOCATION:Sheraton Inner Harbor Baltimore\, 300 S Charles St\, Baltimore\, MD\, 21201
ORGANIZER;CN="Karen%20Crawford":MAILTO:kcrawford@cmc-associates.com
GEO:39.2845897;-76.6156309
X-APPLE-STRUCTURED-LOCATION;VALUE=URI;X-ADDRESS=Sheraton Inner Harbor Baltimore 300 S Charles St Baltimore MD 21201;X-APPLE-RADIUS=500;X-TITLE=300 S Charles St:geo:-76.6156309,39.2845897
END:VEVENT
END:VCALENDAR