

BEGIN:VCALENDAR
VERSION:2.0
PRODID:-//AASHTO Meetings &amp; Member Services - ECPv5.9.0//NONSGML v1.0//EN
CALSCALE:GREGORIAN
METHOD:PUBLISH
X-WR-CALNAME:AASHTO Meetings &amp; Member Services
X-ORIGINAL-URL:https://meetings.transportation.org
X-WR-CALDESC:Events for AASHTO Meetings &amp; Member Services
BEGIN:VTIMEZONE
TZID:UTC
BEGIN:STANDARD
TZOFFSETFROM:+0000
TZOFFSETTO:+0000
TZNAME:UTC
DTSTART:20170101T000000
END:STANDARD
END:VTIMEZONE
BEGIN:VEVENT
DTSTART;TZID=UTC:20170813T080000
DTEND;TZID=UTC:20170817T170000
DTSTAMP:20210914T090049
CREATED:20170608T180901Z
LAST-MODIFIED:20170811T001445Z
UID:336-1502611200-1502989200@meetings.transportation.org
SUMMARY:2017 AASHTO Subcommittee on Construction Meeting
DESCRIPTION:The AASHTO Subcommittee on Construction\, as a national voice and leading source of guidance for the transportation construction industry\, diligently works to advance efforts to improve safety in work zones\, improve customer service and collaboration\, promote quality\, advocate for environmentally responsible construction projects\, encourage technology driven improvements to business practices\, develop and empower our work force to be successful\, promote best practices for the administration of all construction contracts and utilize construction efficiency and cost effectiveness.  The AASHTO Annual Meeting is convened five full days for technical sessions on cutting edge issues related to our transportation industry. There are also many opportunities for networking and socializing with our colleagues.
URL:https://meetings.transportation.org/event/2017-aashto-subcommittee-on-construction-meeting/
LOCATION:Hyatt Regency Cincinnati\, 151 W 5th Street\, Cincinnati\, OH\, 45202
ORGANIZER;CN="Kristen%20Thomas":MAILTO:kdthomas@kcdevent-partners.com
GEO:39.1003446;-84.5157185
X-APPLE-STRUCTURED-LOCATION;VALUE=URI;X-ADDRESS=Hyatt Regency Cincinnati 151 W 5th Street Cincinnati OH 45202;X-APPLE-RADIUS=500;X-TITLE=151 W 5th Street:geo:-84.5157185,39.1003446
END:VEVENT
END:VCALENDAR